BEGIN:VCALENDAR
VERSION:2.0
PRODID:-//Kulturhaus Hotel Kovèl e. V. - ECPv6.15.20//NONSGML v1.0//EN
CALSCALE:GREGORIAN
METHOD:PUBLISH
X-WR-CALNAME:Kulturhaus Hotel Kovèl e. V.
X-ORIGINAL-URL:https://hotelkovel.de
X-WR-CALDESC:Veranstaltungen für Kulturhaus Hotel Kovèl e. V.
REFRESH-INTERVAL;VALUE=DURATION:PT1H
X-Robots-Tag:noindex
X-PUBLISHED-TTL:PT1H
BEGIN:VTIMEZONE
TZID:UTC
BEGIN:STANDARD
TZOFFSETFROM:+0000
TZOFFSETTO:+0000
TZNAME:UTC
DTSTART:20240101T000000
END:STANDARD
END:VTIMEZONE
BEGIN:VEVENT
DTSTART;TZID=UTC:20251018T210000
DTEND;TZID=UTC:20251018T233000
DTSTAMP:20260420T141801
CREATED:20250309T121130Z
LAST-MODIFIED:20250309T121135Z
UID:253-1760821200-1760830200@hotelkovel.de
SUMMARY:Pornokaraoke mit John Porno
DESCRIPTION:Karaoke mal anders!\nKlaus B. Wolf moderiert als John Porno\, seit über 2 Jahren regelmäßig Porno-Karaoke.\nGezeigt werden vintage Streifen aus dem alten Jahrhundert\, hierzu muss das Publikum den Film synchronisieren. \nLinks: \nAuszug aus der Süddeutsch Zeitung:\nStadtausgabe-08.11.2024[31] \nwww.spruchreif.com \n 
URL:https://hotelkovel.de/event/pornokaraoke-mit-john-porno/
LOCATION:Hotel Kovèl\, Tirolergasse 11\, Oberammergau\, Bayern\, 82487\, Germany
ORGANIZER;CN="Kulturhaus Hotel Kov%C3%A8l":MAILTO:info@hotelkovel.de
END:VEVENT
END:VCALENDAR