BEGIN:VCALENDAR
VERSION:2.0
PRODID:-//Kulturhaus Hotel Kovèl e. V. - ECPv6.15.20//NONSGML v1.0//EN
CALSCALE:GREGORIAN
METHOD:PUBLISH
X-WR-CALNAME:Kulturhaus Hotel Kovèl e. V.
X-ORIGINAL-URL:https://hotelkovel.de
X-WR-CALDESC:Veranstaltungen für Kulturhaus Hotel Kovèl e. V.
REFRESH-INTERVAL;VALUE=DURATION:PT1H
X-Robots-Tag:noindex
X-PUBLISHED-TTL:PT1H
BEGIN:VTIMEZONE
TZID:UTC
BEGIN:STANDARD
TZOFFSETFROM:+0000
TZOFFSETTO:+0000
TZNAME:UTC
DTSTART:20250101T000000
END:STANDARD
END:VTIMEZONE
BEGIN:VEVENT
DTSTART;TZID=UTC:20260313T210000
DTEND;TZID=UTC:20260313T233000
DTSTAMP:20260420T070533
CREATED:20260126T192549Z
LAST-MODIFIED:20260226T205104Z
UID:365-1773435600-1773444600@hotelkovel.de
SUMMARY:Konzert: SEXSCHWEISS
DESCRIPTION:SEXSCHWEISS \nSexschweiss sind nicht zu stoppen und legen im Jahr ihres Debütalbums GESTANK direkt ihr zweites Album DADA nach.\nAktiv aggressiver Umgang mit Alltagsfatigue\, höllische Abgründe des Nachtlebens durchsetzt vom Verlangen nach einem Funken Hoffnung umreißen die Eckpunkte des neuen Release der Vier. \n„Sexschweiss holen mich da ab\, wo Dÿse mich haben stehen lassen und ich würde überall mit ihnenhingehen.\nDer Gesang ist eine Performance:\nJedes Mal\, wenn Claudia Röhrle anfängt zu singen\,geht ein Vorhang auf\, übelst gute Drums\, schlimm-schlaues Songwriting und irgendwie klingt diese Band wie eine Punkband\, die sehr leichtfüßig noch ganz andere Genres bespielen könnte.“\nVisions Magazin 07.08.25 \nDADA erschien am 18.12.25 bei Schaufel und Besen Records \nLinks: \nhttps://www.sexschweiss.de/ \n  \nEintritt wie immer frei \nEinlass 21.00 Uhr
URL:https://hotelkovel.de/event/konzert-sexschweiss/
LOCATION:Hotel Kovèl\, Tirolergasse 11\, Oberammergau\, Bayern\, 82487\, Germany
ATTACH;FMTTYPE=image/jpeg:https://hotelkovel.de/wp-content/uploads/2026/01/SEXSCHWEISS-PRESSEFOTO-c-Till-Wollenweber-1920px.jpg
ORGANIZER;CN="Kulturhaus Hotel Kov%C3%A8l":MAILTO:info@hotelkovel.de
END:VEVENT
END:VCALENDAR