BEGIN:VCALENDAR
VERSION:2.0
PRODID:-//Kulturhaus Hotel Kovèl e. V. - ECPv6.15.20//NONSGML v1.0//EN
CALSCALE:GREGORIAN
METHOD:PUBLISH
X-WR-CALNAME:Kulturhaus Hotel Kovèl e. V.
X-ORIGINAL-URL:https://hotelkovel.de
X-WR-CALDESC:Veranstaltungen für Kulturhaus Hotel Kovèl e. V.
REFRESH-INTERVAL;VALUE=DURATION:PT1H
X-Robots-Tag:noindex
X-PUBLISHED-TTL:PT1H
BEGIN:VTIMEZONE
TZID:UTC
BEGIN:STANDARD
TZOFFSETFROM:+0000
TZOFFSETTO:+0000
TZNAME:UTC
DTSTART:20250101T000000
END:STANDARD
END:VTIMEZONE
BEGIN:VEVENT
DTSTART;TZID=UTC:20260508T210000
DTEND;TZID=UTC:20260508T233000
DTSTAMP:20260420T070450
CREATED:20260226T203032Z
LAST-MODIFIED:20260409T141708Z
UID:415-1778274000-1778283000@hotelkovel.de
SUMMARY:Konzert: Arm & Hässlich
DESCRIPTION:Arm & Hässlich ist eine\, in der Wahrnehmung\, in München verortete\, zweisprachige Rapcrew. \nDer Produzent\, MR. POLAROID und der Rapper PEEFKE (deutsch sprachig) sind im Süden von München\, im tiefsten Oberbayern (bei Bad Tölz) aufgewachsen. Rapper SOIHE (französisch sprachig) stammt aus der französischen Schweiz\n(bei Fribourg).\nIhre Wege kreuzten sich in München. Soihe lebt jetzt seit 13 Jahren in Berlin\, Mr polaroid wieder in Bad Tölz und Peefke in München. \nDie Themen der Texte sind\, persönliche Erfahrungen\, Anlehnungen an den Graffitikosmos\, Gesellschafts- sozial- und Kapitalismuskritik und dem einfachen Leben in der Bonzenstadt.\nDas ganze auf Beats\, aus Samples aus aller Welt.\nVor kurzem erschien ihr drittes Album „Final Portrait“ \nLinks:\nlink.tree I Arm & Hässlich \n————————————————————————————————— \nDiesmal werden anschließend wieder im Schallraum die Plattenspieler angeschmissen! \nMit dabei F E L I X  F E L I C I S (borderless vinyl picks // 33 -45 rpm) \n  \nEinlass 21.00 Uhr \nEintritt frei
URL:https://hotelkovel.de/event/konzert-arm-haesslich/
LOCATION:Hotel Kovèl\, Tirolergasse 11\, Oberammergau\, Bayern\, 82487\, Germany
ATTACH;FMTTYPE=image/jpeg:https://hotelkovel.de/wp-content/uploads/2026/02/AH_1-scaled.jpg
ORGANIZER;CN="Kulturhaus Hotel Kov%C3%A8l":MAILTO:info@hotelkovel.de
END:VEVENT
END:VCALENDAR