BEGIN:VCALENDAR
VERSION:2.0
PRODID:-//Kulturhaus Hotel Kovèl e. V. - ECPv6.15.20//NONSGML v1.0//EN
CALSCALE:GREGORIAN
METHOD:PUBLISH
X-ORIGINAL-URL:https://hotelkovel.de
X-WR-CALDESC:Veranstaltungen für Kulturhaus Hotel Kovèl e. V.
REFRESH-INTERVAL;VALUE=DURATION:PT1H
X-Robots-Tag:noindex
X-PUBLISHED-TTL:PT1H
BEGIN:VTIMEZONE
TZID:UTC
BEGIN:STANDARD
TZOFFSETFROM:+0000
TZOFFSETTO:+0000
TZNAME:UTC
DTSTART:20240101T000000
END:STANDARD
END:VTIMEZONE
BEGIN:VEVENT
DTSTART;TZID=UTC:20260327T210000
DTEND;TZID=UTC:20260327T233000
DTSTAMP:20260420T041143
CREATED:20260202T111940Z
LAST-MODIFIED:20260226T205145Z
UID:377-1774645200-1774654200@hotelkovel.de
SUMMARY:Konzert: Gobilove
DESCRIPTION:GOBILOVE \nGobilove sind auf Tour\, und machen dabei natürlich einen Stop bei uns im Hotel.\nHierbei präsentieren sie nicht nur ihr Album Mother’s Eye\, sondern haben auch ein paar brandneue noch nicht veröffentlichte Songs mit im Gepäck – eine farbenfrohe Reise durch psychedelischen Pop mit einer unverkennbaren 70s-Ästhetik. \nDie Band bringt ihren charakteristischen Sound auf die nächste Stufe: eingängige Melodien treffen auf hypnotische Grooves\, warme Vintage-Sounds verschmelzen mit modernem Songwriting. Schon mit ihren bisherigen Veröffentlichungen haben Gobilove bewiesen\, dass sie ein feines Gespür für Atmosphäre und Hooks haben. \nDas Debütalbum erweitert dieses Klangspektrum – von schwebenden\, verträumten Momenten bis hin zu treibenden\, euphorischen Passagen\, die auf der Tanzfläche genauso funktionieren wie auf einem Roadtrip durch die Wüste.\nGobilove\, klingen zugleich nostalgisch und zeitlos – ein Augenzwinkern an vergangene Tage\, ohne dabei in Retro-Klischees zu verfallen. Mit ihren Veröffentlichungen unterstreichen Gobilove\, dass sie längst mehr sind als ein Geheimtipp – ein Name\, der bleiben wird. \n  \nLinks:\nbandcamp.com | GOBILOVE \nwww.instagram.com | GOBILOVE \nlinktr.ee | GOBILOVE \nyoutube.com | GOBILOVE \n  \nEintritt wie immer frei! \nEinlass 21.00 Uhr
URL:https://hotelkovel.de/event/konzert-gobilove/
LOCATION:Hotel Kovèl\, Tirolergasse 11\, Oberammergau\, Bayern\, 82487\, Germany
ATTACH;FMTTYPE=image/jpeg:https://hotelkovel.de/wp-content/uploads/2026/02/GOBILOVE_NEU-scaled.jpg
ORGANIZER;CN="Kulturhaus Hotel Kov%C3%A8l":MAILTO:info@hotelkovel.de
END:VEVENT
BEGIN:VEVENT
DTSTART;TZID=UTC:20260313T210000
DTEND;TZID=UTC:20260313T233000
DTSTAMP:20260420T041143
CREATED:20260126T192549Z
LAST-MODIFIED:20260226T205104Z
UID:365-1773435600-1773444600@hotelkovel.de
SUMMARY:Konzert: SEXSCHWEISS
DESCRIPTION:SEXSCHWEISS \nSexschweiss sind nicht zu stoppen und legen im Jahr ihres Debütalbums GESTANK direkt ihr zweites Album DADA nach.\nAktiv aggressiver Umgang mit Alltagsfatigue\, höllische Abgründe des Nachtlebens durchsetzt vom Verlangen nach einem Funken Hoffnung umreißen die Eckpunkte des neuen Release der Vier. \n„Sexschweiss holen mich da ab\, wo Dÿse mich haben stehen lassen und ich würde überall mit ihnenhingehen.\nDer Gesang ist eine Performance:\nJedes Mal\, wenn Claudia Röhrle anfängt zu singen\,geht ein Vorhang auf\, übelst gute Drums\, schlimm-schlaues Songwriting und irgendwie klingt diese Band wie eine Punkband\, die sehr leichtfüßig noch ganz andere Genres bespielen könnte.“\nVisions Magazin 07.08.25 \nDADA erschien am 18.12.25 bei Schaufel und Besen Records \nLinks: \nhttps://www.sexschweiss.de/ \n  \nEintritt wie immer frei \nEinlass 21.00 Uhr
URL:https://hotelkovel.de/event/konzert-sexschweiss/
LOCATION:Hotel Kovèl\, Tirolergasse 11\, Oberammergau\, Bayern\, 82487\, Germany
ATTACH;FMTTYPE=image/jpeg:https://hotelkovel.de/wp-content/uploads/2026/01/SEXSCHWEISS-PRESSEFOTO-c-Till-Wollenweber-1920px.jpg
ORGANIZER;CN="Kulturhaus Hotel Kov%C3%A8l":MAILTO:info@hotelkovel.de
END:VEVENT
BEGIN:VEVENT
DTSTART;TZID=UTC:20260212T200000
DTEND;TZID=UTC:20260217T000000
DTSTAMP:20260420T041143
CREATED:20260123T085132Z
LAST-MODIFIED:20260209T200812Z
UID:362-1770926400-1771286400@hotelkovel.de
SUMMARY:CAFÉ MISTHAUFEN 2026
DESCRIPTION:Diesmal sind wir tief im Dschungel! \nÖffnungszeitenDonnerstag 12.02.26 // 20.00 – 04.00 UhrFreitag 13.02.26 // 20.00 – 04.00 Uhr Samstag 14.02.26 // 20.00 – 04.00 Uhr Sonntag 15.02.26 // 20.00 – 04.00 UhrMontag 16.02.26 // 20.00 – 04.00 UhrDienstag 17.02.26 // 18.00 – 00.00 Uhr \nMusik\nDonnerstag: GOLGOTHA VIBES // DJ EXSTATIC PONY // DJ EXSTATIC PONYFreitag: NAPOLEON IN THE WILDERNESS // DJ AL/KSamstag: SCHADE // SIGGI (KLUBHAUS)Sonntag: IRIE FAMBLI // SISTA KAYAMontag: DA SIMMAL BAND // MEISTER STIRNDienstag: DINERS CLUB // TSE TSE & MALARIA \n  \nDenkt bitte an entsprechendes Auftreten!
URL:https://hotelkovel.de/event/cafe-misthaufen-2026/
LOCATION:Hotel Kovèl\, Tirolergasse 11\, Oberammergau\, Bayern\, 82487\, Germany
ORGANIZER;CN="Kulturhaus Hotel Kov%C3%A8l":MAILTO:info@hotelkovel.de
END:VEVENT
BEGIN:VEVENT
DTSTART;TZID=UTC:20251121T210000
DTEND;TZID=UTC:20251121T233000
DTSTAMP:20260420T041143
CREATED:20250309T121657Z
LAST-MODIFIED:20250915T225317Z
UID:256-1763758800-1763767800@hotelkovel.de
SUMMARY:Konzert: Lyca
DESCRIPTION:Gegründet im April 2021 durfte sich die 6-köpfige Band LYCA schnell als feste Größe in der lokalen Musikszene etablieren. Im Kern eine Rock Combo mit klarer Anlehnung an Früher. Beim genaueren Hinhören entfaltet sich ein Potpuorri an Stilen und Klängen.\nMarkante Salsa und Cumbia Grooves\, die keine Hüfte still lassen\, treffen auf souligen Garagen & Psychedelic Rock in feinster 60’s Manier. Die stets rotierenden Rhythmen und kantigen Melodien schwellen dabei immer zu neuen Höhepunkten an\, sodass man sich dem extatischen Sound Live nur schwer widersetzen kann. \n  \nLinks: \nhttps://www.lyca-band.com/ \nhttps://www.youtube.com/channel/UC024iLcFXk2gh5_1EN7fxrgcm \n \n  \nAftershow: Siggi & Säbb (KLUBHAUS)
URL:https://hotelkovel.de/event/konzert-lyca/
LOCATION:Hotel Kovèl\, Tirolergasse 11\, Oberammergau\, Bayern\, 82487\, Germany
ORGANIZER;CN="Kulturhaus Hotel Kov%C3%A8l":MAILTO:info@hotelkovel.de
END:VEVENT
BEGIN:VEVENT
DTSTART;TZID=UTC:20251018T210000
DTEND;TZID=UTC:20251018T233000
DTSTAMP:20260420T041143
CREATED:20250309T121130Z
LAST-MODIFIED:20250309T121135Z
UID:253-1760821200-1760830200@hotelkovel.de
SUMMARY:Pornokaraoke mit John Porno
DESCRIPTION:Karaoke mal anders!\nKlaus B. Wolf moderiert als John Porno\, seit über 2 Jahren regelmäßig Porno-Karaoke.\nGezeigt werden vintage Streifen aus dem alten Jahrhundert\, hierzu muss das Publikum den Film synchronisieren. \nLinks: \nAuszug aus der Süddeutsch Zeitung:\nStadtausgabe-08.11.2024[31] \nwww.spruchreif.com \n 
URL:https://hotelkovel.de/event/pornokaraoke-mit-john-porno/
LOCATION:Hotel Kovèl\, Tirolergasse 11\, Oberammergau\, Bayern\, 82487\, Germany
ORGANIZER;CN="Kulturhaus Hotel Kov%C3%A8l":MAILTO:info@hotelkovel.de
END:VEVENT
BEGIN:VEVENT
DTSTART;TZID=UTC:20251003T210000
DTEND;TZID=UTC:20251003T233000
DTSTAMP:20260420T041143
CREATED:20250314T082735Z
LAST-MODIFIED:20250915T225047Z
UID:269-1759525200-1759534200@hotelkovel.de
SUMMARY:Konzert: Ronny Weltraum und die Mopeds //w Vorwärts Alright!
DESCRIPTION:Die Menschheit beschleicht eine bislang unbekannte Apathie. Der Youtube-Algorithmus hängt auf Power-Yoga mit Helene Fischer\, die Frittöse ist nicht ganz so smart wie ALEXA das gerne hätte und der Rasenmäh-Roboter muss in Therapie\, weil er Gänseblümchen lieb hat. Jetzt kann uns nur noch einer uns retten: RONNY WELTRAUM\, die funky Eminenz des Universums! Zusammen mit den MOPEDS – Stief Nief (git)\, Press Buttoni (voc\,bass)\, Toni Brokkoli (git\,orgel) und Jutsch Zeiger (dr) – schraddelt er mal punkig\, mal groovy durch die unendlichen Weiten unserer Galaxie\, um uns das F.U.N.K. – Fluid für Unkontolliertes Nicken und Kicken – zurückzubringen. Space Is The Place With Chiwawas In Your Face! \nLinks:\nhttps://ronnyweltraum.bandcamp.com/music\nhttps://www.ronnyweltraum.de/ \n  \nSupport: Vorwärts Alright!\nhttps://vorwaertsalright.bandcamp.com/album/vorw-rts-alright \nAftershow: Diskopeter (33-45rpm)\nhttps://soundcloud.com/diskopeter?fbclid=PAZXh0bgNhZW0CMTEAAae2ahC0Z7k_yCHtB6GNIuz6cXEu344_3afz2D29ynWNlcR1w9HRvmawxDZlvA_aem_V7w_xYVSozddR5HZZn3zxg \n  \n 
URL:https://hotelkovel.de/event/konzert-ronny-weltraum-und-die-mopeds/
LOCATION:Hotel Kovèl\, Tirolergasse 11\, Oberammergau\, Bayern\, 82487\, Germany
ORGANIZER;CN="Kulturhaus Hotel Kov%C3%A8l":MAILTO:info@hotelkovel.de
END:VEVENT
BEGIN:VEVENT
DTSTART;TZID=UTC:20250927T210000
DTEND;TZID=UTC:20250927T233000
DTSTAMP:20260420T041143
CREATED:20250309T115217Z
LAST-MODIFIED:20250309T115226Z
UID:251-1759006800-1759015800@hotelkovel.de
SUMMARY:Konzert: Tuppenny Bunters (UK)
DESCRIPTION:TUPPENNY BUNTERS sind ein zweiköpfiges Klavier- und Schlagzeug-Duo aus Southend-On-Sea\, nähe London (UK)\, das mit vintage Equipment und zwei unterschiedlichen Stimmen ein elektrisierendes Set aus eigenen Songs kreiert\, das Musikrichtungen wie Music Hall\, Barock\, Garage\, Punk und New Wave umfasst. Ihre Einflüsse sind vielfältig und verweben diese mit Leidenschaft. Häufig wechseln sie die Instrumente und teilen sich die Hauptstimmen.\nEine einzigartige und mitreißende Darbietung. \nLinks: \nhttps://www.tuppennybunters.com/ \nhttps://www.youtube.com/@tuppennybunters3675
URL:https://hotelkovel.de/event/konzert-tuppenny-bunters-uk/
LOCATION:Hotel Kovèl\, Tirolergasse 11\, Oberammergau\, Bayern\, 82487\, Germany
ORGANIZER;CN="Kulturhaus Hotel Kov%C3%A8l":MAILTO:info@hotelkovel.de
END:VEVENT
BEGIN:VEVENT
DTSTART;TZID=UTC:20250921T210000
DTEND;TZID=UTC:20250921T233000
DTSTAMP:20260420T041143
CREATED:20250309T124910Z
LAST-MODIFIED:20250911T190234Z
UID:264-1758488400-1758497400@hotelkovel.de
SUMMARY:Konzert: Sleepwalker’s Station & Sam Brothers (UK)
DESCRIPTION:Ein Live-Konzert von Sleepwalker’s Station (Indie-World-Folk) zu erleben\, ist wie eine kleine\, sanfte Reise rund um den Globus\, bei der man kleine Eindrücke und Souvenirs aus jedem Land und jeder Region mitnimmt\, die diese musikalische Reise zu bieten hat.\n \nSam Brothers & Sleepwalkers Station  \nDer Folksänger Sam Brothers (UK) und Daniel Del Valle von der Indie-Folk-Band Sleepwalkers Station (D/IT) lernten sich bei einem Auftritt beim Gwangju Busking World Cup Finale 2023 in Südkorea kennen. Die Liebe zu traditioneller musik\, zum Reisen und zur internationalen Cuisine verband die beiden\, und führte so zur Entstehung des Projekts „Around The World In 80 Minutes“.  \nDie Show ist eine Folk Odyssee mit Nuancen von Flamenco\, irischer und italienischer Musik bis hin zu Austropop\, die Sie auf eine Reise durch mehrere Länder und gar Kontinente der Erde mitnimmt! – Basierend auf den Erfahrungen beider Musiker\, die auf der ganzen Welt aufgetreten sind.  \nDaniel\, der 5 verschiedene Sprachen fließend spricht\, bringt seine sprachlichen und songwriting-Fähigkeiten in diese gewagte Mischung ein\, während Sam eine Reihe exotischer Instrumente mitbringt\, darunter eine chinesische Hulusi-Flöte\, die irische Harfe\, eine Mundharmonika sowie seine eigenen Songwriting-Fähigkeiten. \nFreuen Sie sich auf Geschichten über das Spielen auf der Bühne mit Van Morrison\, die Überquerung des Atlantiks auf einem Segelboot\, das Erlernen des Balofons in Westafrika\, Auftritte beim Glastonbury & The Isle Of Wight Festival\, das Singen mit den Tuareg in der Sahara\, das Straßenmusizieren in der Nähe der nordkoreanischen Grenze und das Treffen mit Persönlichkeiten wie Dave Gilmour bis Ennio Morricone. \nLinks: \nhttps://www.sambrothers.co.uk/\nhttps://www.sleepwalkersstation.com/\nhttps://open.spotify.com/intl-de/album/6scj512iLurPKJwcESvYD3?fo=1
URL:https://hotelkovel.de/event/konzert-sleepwalkers-station/
LOCATION:Hotel Kovèl\, Tirolergasse 11\, Oberammergau\, Bayern\, 82487\, Germany
ORGANIZER;CN="Kulturhaus Hotel Kov%C3%A8l":MAILTO:info@hotelkovel.de
END:VEVENT
BEGIN:VEVENT
DTSTART;TZID=UTC:20250619T210000
DTEND;TZID=UTC:20250619T233000
DTSTAMP:20260420T041143
CREATED:20250206T081000Z
LAST-MODIFIED:20250603T082013Z
UID:217-1750366800-1750375800@hotelkovel.de
SUMMARY:Konzert: Davey and the Midnights
DESCRIPTION:Davey and the Midnights – spielen unconventional midwestern countrymusic mit ordentlich psychedelischen Einfluss. \n\nDavey and the Midnights ist eine Midwestern-Country-Band\, die in Los Angeles\, Kalifornien\, ins Leben gerufen wurde. In den letzten acht Jahren haben sie sich als eine der engagiertesten Bands im Genre etabliert und sind ausgiebig durch die Vereinigten Staaten getourt.\nIm Herbst 2023 wagte die Band den Schritt über den Atlantik und trat auf ihrer ersten Europatournee in Frankreich und Deutschland auf. Ihre Live-Auftritte sind bekannt für ihre emotionale Intensität und hohe Energie\, was sie zu einem unvergesslichen Erlebnis für Fans der Americana-Musik macht. \nAn der Spitze der Band steht Davey Allen\, der Leadsänger\, Keyboarder und Hauptsongwriter.\nNeben seiner Tätigkeit mit den Midnights kann Davey auf eine beeindruckende musikalische Karriere zurückblicken\, in der er als Solokünstler und als Keyboarder für den Rock-Hall-of-Famer Eric Burdon tourte.\nZudem war er Mitglied der San Francisco Rockband The Stone Foxes. \nAbseits der Musik setzt sich Davey leidenschaftlich für soziale Anliegen ein und hat einen Teil seiner Albumverkäufe an Organisationen wie die Dolores Huerta Foundation und das Citizen Potawatomi Nation Cultural Center gespendet. \n\nLinks: \nhttps://www.daveyandthemidnights.com/ \n 
URL:https://hotelkovel.de/event/konzert-davey-and-the-midnights/
LOCATION:Hotel Kovèl\, Tirolergasse 11\, Oberammergau\, Bayern\, 82487\, Germany
ORGANIZER;CN="Kulturhaus Hotel Kov%C3%A8l":MAILTO:info@hotelkovel.de
END:VEVENT
BEGIN:VEVENT
DTSTART;TZID=UTC:20250607T210000
DTEND;TZID=UTC:20250607T210000
DTSTAMP:20260420T041143
CREATED:20250205T200256Z
LAST-MODIFIED:20250521T091620Z
UID:204-1749330000-1749330000@hotelkovel.de
SUMMARY:Konzert: Schade (CH)
DESCRIPTION:Schade (CH) \nDas Duo Schade entstand im Jahr 2013 aus der Zusammenarbeit zweier aktiver Figuren der alternativen Musikszene der Schweiz\, Brynjar Thorsson (Welington Irish Black Warrior\, Cochon Double) und Dany Digler (Dee Diglers\, Los Orioles\, Love Cans\, TrashMantra). Das Universum der Band ist eine geschickte Mischung ihrer vielfältigen Einflüsse\, die zu hybrider Musik führt. Schade fällt in einen Musikstil\, der oft als französische Chanson beschrieben wird\, verwurzelt im Post-Punk und New Wave\, mit einem Hauch von Psychedelia. \nDie Gruppe trat erstmals beim Swiss Psych Fest im L’Amalgame in Yverdon auf\, und nach diesem Event eröffneten sich zahlreiche Möglichkeiten für sie. Das Duo erweiterte schnell seinen Wirkungskreis und trat bislang in folgenden Ländern auf: Frankreich\, Italien\, Deutschland\, Belgien\, England\, Rumänien\, Österreich\, Slowenien\, Tschechische Republik und den Vereinigten Staaten. \n  \nLinks: \nhttps://soschade.bandcamp.com/ \nhttps://www.instagram.com/schadesoschade/ \n  \nEintritt frei \nEinlass 21.00 Uhr
URL:https://hotelkovel.de/event/konzert-rouge-gorge-fr-schade-ch/
LOCATION:Hotel Kovèl\, Tirolergasse 11\, Oberammergau\, Bayern\, 82487\, Germany
ORGANIZER;CN="Kulturhaus Hotel Kov%C3%A8l":MAILTO:info@hotelkovel.de
END:VEVENT
BEGIN:VEVENT
DTSTART;TZID=UTC:20250531T210000
DTEND;TZID=UTC:20250531T233000
DTSTAMP:20260420T041143
CREATED:20250205T201106Z
LAST-MODIFIED:20250205T201106Z
UID:210-1748725200-1748734200@hotelkovel.de
SUMMARY:Konzert: MetzgerButcher
DESCRIPTION:MetzgerButcher \nDie Brüder Larry Butcher und Hans W. Metzger haben schon seit den 1980er Jahren gemeinsam in Bands gespielt.\nNach dem Ende ihrer letzten Band\, dem Bonner Punkrock-Trio Wantu & The srie 4’s\,\nim Frühjahr 2020\, war beiden sofort klar\, dass sie weiter gemeinsam Musik machen wollen. Allerdings erschwerten die Kontaktbeschränkungen des ersten Corona-Lockdowns die Suche nach Mitmusikern erheblich. So entstand das Duo MetzgerButcher: Zwei Brüder mit Bass und Gitarre zusammen mit einer elektronischen Rhythmus-Maschine!\nBeeinflusst vom Punk der 70er- und NDW-Bands der frühen 80er-Jahre war die musikalische Richtung vorgegeben. \nLinks: \nhttps://linktr.ee/MetzgerButcher?fbclid=PAZXh0bgNhZW0CMTEAAabK_V71KF3me7NipEL1KCsuRqeC-0FxlhgUbnn9Kb48ZNWVTYpyWv5Ih8U_aem_QkIiQEDatEtGEt3EvohNMw \n  \nEintritt frei \nEilass 21.00 Uhr
URL:https://hotelkovel.de/event/konzert-metzgerbutcher/
LOCATION:Hotel Kovèl\, Tirolergasse 11\, Oberammergau\, Bayern\, 82487\, Germany
ORGANIZER;CN="Kulturhaus Hotel Kov%C3%A8l":MAILTO:info@hotelkovel.de
END:VEVENT
BEGIN:VEVENT
DTSTART;TZID=UTC:20250530T210000
DTEND;TZID=UTC:20250530T233000
DTSTAMP:20260420T041143
CREATED:20250205T200911Z
LAST-MODIFIED:20250205T200911Z
UID:208-1748638800-1748647800@hotelkovel.de
SUMMARY:Konzert: da Tompl
DESCRIPTION:da Tompl präsentiert seine Lieder – humorvoll\, kabarettistisch\, kritisch \nhttps://www.youtube.com/channel/UCk7FOvf95hd3Hm23JIDFoyA/channels \n  \nEintritt frei \nEinlass 21.00 Uhr
URL:https://hotelkovel.de/event/konzert-da-tompl/
LOCATION:Hotel Kovèl\, Tirolergasse 11\, Oberammergau\, Bayern\, 82487\, Germany
ORGANIZER;CN="Kulturhaus Hotel Kov%C3%A8l":MAILTO:info@hotelkovel.de
END:VEVENT
BEGIN:VEVENT
DTSTART;TZID=UTC:20250426T210000
DTEND;TZID=UTC:20250426T233000
DTSTAMP:20260420T041143
CREATED:20250205T194534Z
LAST-MODIFIED:20250422T064936Z
UID:202-1745701200-1745710200@hotelkovel.de
SUMMARY:Konzert: Kaligrama
DESCRIPTION:Kaligrama \n(psychedelic Rock) \nKaligrama entführen euch in Klangwelten\, die zwischen treibenden Grooves\, sphärischer Tiefe und verspielter Experimentierfreude oszillieren. Im Kern ein Rock-Quartett\, das seine Wurzeln im 70s-Sound hat\, ihn aber in alle Richtungen sprießen lässt. Psychedelische Melodien verweben sich mit folkigen Schattierungen und proggiger Dramaturgie – mal erdig und roh\, mal schwebend und entrückt. Eine Reise durch Sound und Zeit\, die live ihre volle Intensität entfaltet. \nLinks: \n \nhttps://www.youtube.com/@kaligrama_band \nwww.kaligrama.de \nEintritt frei \nEinlass 21.00 Uhr
URL:https://hotelkovel.de/event/konzert-kaligrama/
LOCATION:Hotel Kovèl\, Tirolergasse 11\, Oberammergau\, Bayern\, 82487\, Germany
ORGANIZER;CN="Kulturhaus Hotel Kov%C3%A8l":MAILTO:info@hotelkovel.de
END:VEVENT
BEGIN:VEVENT
DTSTART;TZID=UTC:20250424T190000
DTEND;TZID=UTC:20250424T220000
DTSTAMP:20260420T041143
CREATED:20250307T091035Z
LAST-MODIFIED:20250310T183727Z
UID:227-1745521200-1745532000@hotelkovel.de
SUMMARY:Lesung: Annegret Liepold (Unter Grund)
DESCRIPTION:Lesung mit Annegret Liepold über ihr neues Buch Unter Grund \n– Einhochaktuelles Debüt über eine Jugend auf dem Land zwischen der Sehnsucht nach Zugehörigkeit\, radikaler Wut und den blinden Flecken der eigenen Familie. \n \nAnnegret Liepold\, geboren 1990 in Nürnberg\, hat Komparatistik und Politikwissenschaften in München und Paris studiert. Für die Arbeit an ihrem Debüt Unter Grund erhielt sie zahlreiche Auszeichnungen\, u.a. das Literaturstipendium der Stadt München sowie die Einladung zur 15. Schreibwerkstatt der Jürgen-Ponto-Stiftung und zur Romanwerkstatt des Literaturforums im Brecht-Haus Berlin. 2022 war sie Finalistin des open mike. Sie arbeitet für die »Bayerische Akademie des Schreibens« am Literaturhaus München. \nLinks:\nhttps://www.penguin.de/autoren/annegret-liepold/758968\nhttps://annegretliepold.wordpress.com/ \n  \n 
URL:https://hotelkovel.de/event/lesung-annegret-liepold/
LOCATION:Hotel Kovèl\, Tirolergasse 11\, Oberammergau\, Bayern\, 82487\, Germany
ORGANIZER;CN="Kulturhaus Hotel Kov%C3%A8l":MAILTO:info@hotelkovel.de
END:VEVENT
BEGIN:VEVENT
DTSTART;TZID=UTC:20250404T190000
DTEND;TZID=UTC:20250404T220000
DTSTAMP:20260420T041143
CREATED:20250205T192117Z
LAST-MODIFIED:20250327T075703Z
UID:197-1743793200-1743804000@hotelkovel.de
SUMMARY:Lesung: Jörg Steinleitner (Nacht der Bibliotheken)
DESCRIPTION:Am Freitag\, den 4. April 2025 findet das erste Mal bundesweit die Nacht der Bibliotheken statt. \nUnter dem Motto „Wissen.Teilen.Entdecken“ öffnen kleine und große Bibliotheken\, Spezialbibliotheken\, Öffentliche und wissenschaftliche Bibliotheken am ersten Freitagabend im April ihre Türen und laden die Menschen ein\, die vielfältigen Angebote in Bibliotheken zu entdecken. \nMit der Nacht der Bibliotheken möchten der Deutsche Bibliotheksverband und seine 16 Landesverbände bundesweite Aufmerksamkeit auf die vielfältigen Angebote und Services von Bibliotheken richten und die Menschen einladen\, ihre Bibliotheken neu zu erleben. \nDie Schirmherrschaft der bundesweiten Nacht der Bibliotheken übernimmt Elke Büdenbender\, Frau des Bundespräsidenten Frank-Walter Steinmeier. \nIn Zusammenarbeit mit der Bücherei Oberammergau veranstalten wir eine Lesung mit Jörg Steinleitner. \nEintritt frei \nEinlass 19.00 Uhr
URL:https://hotelkovel.de/event/lesung-joerg-steinleitner-nacht-der-bibliotheken/
LOCATION:Hotel Kovèl\, Tirolergasse 11\, Oberammergau\, Bayern\, 82487\, Germany
END:VEVENT
BEGIN:VEVENT
DTSTART;TZID=UTC:20250328T210000
DTEND;TZID=UTC:20250328T233000
DTSTAMP:20260420T041143
CREATED:20250205T191534Z
LAST-MODIFIED:20250307T092528Z
UID:193-1743195600-1743204600@hotelkovel.de
SUMMARY:Konzert: Jakob Muehleisen
DESCRIPTION:Jakob Mühleisen – \nist ein  Singer/Songwriter\, ursprünglich vom  Ammersee\, der seit 2010 Musik macht und seit 2018 als Berufsmusiker unterwegs ist. \n\n\n\n\nSein viertes Studioalbum „The Tree“ nimmt die Hörer*innen mit auf eine bewegende Reise in mystische Welten zwischen Realität und Imagination\, in sorglose Weiten der Phantasie und zurück in die Wirklichkeit mit ihrem Schmerz und ihrer Schönheit. \nIn diesem sehr persönlichen Werk beschreibt Muehleisen Facetten des Alleinseins\, eingebettet in eine magische Natur. \n„The Tree“ ist zutiefst zärtlich\, dabei kraftvoll\, lebendig und hoffnungsvoll\, wunderschön poetisch\, tief und romantisch. \n\n\n\n\n\nLinks:\n\n\n„Jakob Muehleisen“ auf Spotify:\nhttps://open.spotify.com/artist/0YZdG8V5bmzlf5FBaVA8VC?si=6a7YRDfLTOOMHwJzMQyvCw&dl_branch=1\n\n\n\n\n\n„Jakob Muehleisen“ auf YouTube:\nhttps://www.youtube.com/c/JakobMuehleisen\n\n\n\n\n\n„Jakob Muehleisen“ auf Instagram:\nhttps://www.instagram.com/jakobmuehleisen/\n\n\n\n\n\n„Jakob Muehleisen“ auf Facebook:\nhttps://www.facebook.com/JakobMuehleisen/\n\n\n\n\n\nEintritt wie immer frei!\nEinlass 21.00 Uhr
URL:https://hotelkovel.de/event/konzert-jakob-muehleisen/
LOCATION:Hotel Kovèl\, Tirolergasse 11\, Oberammergau\, Bayern\, 82487\, Germany
ORGANIZER;CN="Kulturhaus Hotel Kov%C3%A8l":MAILTO:info@hotelkovel.de
END:VEVENT
BEGIN:VEVENT
DTSTART;TZID=UTC:20250322T100000
DTEND;TZID=UTC:20250323T030000
DTSTAMP:20260420T041143
CREATED:20250308T140437Z
LAST-MODIFIED:20250317T205343Z
UID:241-1742637600-1742698800@hotelkovel.de
SUMMARY:Ausstellung: Körper
DESCRIPTION:Kunstausstellung: Körper \n•Theater\, Film\, Foto\, Malerei\, Skulptur\,\nAustausch\, Essen\, Getränke\, Party• \n  \nFreitag 21. März\n17.00 – 22.00 Uhr \nProgramm:\n17.00 Ausstellungseröffnung\n20.00 Performance \n  \nSamstag 22. März\n10.00 – 03.00 Uhr \nProgramm:\n10.00 – 18.00 Ausstellung\n16.00 – 18.00 Musikbegleitung mit ‚OUT‘ (33-45rpm)\n20.00 Livemusik und DJ’s \n  \nAusstellende: \nWerner Werner \nAnnabel Topping \nGina Blesz \nEmma Wittenburg \nHubert Haluna \nSofie Grudzinski \nOhne Name \nSabine Hausner \nFranny \nLuisa Kruse \nMoritz Alexander \nKohler \nLilly Haster
URL:https://hotelkovel.de/event/ausstellung-koerper-2/
LOCATION:Hotel Kovèl\, Tirolergasse 11\, Oberammergau\, Bayern\, 82487\, Germany
ORGANIZER;CN="Kulturhaus Hotel Kov%C3%A8l":MAILTO:info@hotelkovel.de
END:VEVENT
BEGIN:VEVENT
DTSTART;TZID=UTC:20250321T170000
DTEND;TZID=UTC:20250321T220000
DTSTAMP:20260420T041143
CREATED:20250308T140328Z
LAST-MODIFIED:20250317T205155Z
UID:237-1742576400-1742594400@hotelkovel.de
SUMMARY:Ausstellung: Körper
DESCRIPTION:Kunstausstellung: Körper \n•Theater\, Film\, Foto\, Malerei\, Skulptur\,\nAustausch\, Essen\, Getränke\, Party• \n  \nFreitag 21. März\n17.00 – 22.00 Uhr \nProgramm:\n17.00 Ausstellungseröffnung\n20.00 Performance \n  \nSamstag 22. März\n10.00 – 03.00 Uhr \nProgramm:\n10.00 – 18.00 Ausstellung\n16.00 – 18.00 Musikbegleitung mit ‚OUT‘ (33-45rpm)\n20.00 Livemusik und DJ’s \n\nAusstellende: \nWerner Werner \nAnnabel Topping \nGina Blesz \nEmma Wittenburg \nHubert Haluna \nSofie Grudzinski \nOhne Name \nSabine Hausner \nFranny \nLuisa Kruse \nMoritz Alexander \nKohler \nLilly Haster \n\n \n 
URL:https://hotelkovel.de/event/ausstellung-koerper/
LOCATION:Hotel Kovèl\, Tirolergasse 11\, Oberammergau\, Bayern\, 82487\, Germany
ORGANIZER;CN="Kulturhaus Hotel Kov%C3%A8l":MAILTO:info@hotelkovel.de
END:VEVENT
BEGIN:VEVENT
DTSTART;TZID=UTC:20250227T200000
DTEND;TZID=UTC:20250304T000000
DTSTAMP:20260420T041143
CREATED:20250127T214045Z
LAST-MODIFIED:20250205T202033Z
UID:102-1740686400-1741046400@hotelkovel.de
SUMMARY:Café Misthaufen
DESCRIPTION:Öffnungszeiten: \n27.02. – 04.03.2025 \n20:00 Uhr – 04:00 Uhr \nFaschingsdienstag ab 16:00 Uhr \n•Jeden Abend Live Musik• \n••••••••••••••••••••••••••••••• \n\nTime Table: \n\n\n\nDonnerstag 27.02.: Da Simmal // Tse Tse & Malaria \n\n\n\nFreitag 28.02.: Napoleon in the Wilderness // Meister Stirn \n\n\n\nSamstag 01.03.: The Orx // Siggi (Klubhaus) \n\n\n\nSonntag 02.03.: Irie Fambli // DJ AL/K \n\n\n\nMontag 03.03.: Andreas Kalb // Partypabst \n\n\n\nDienstag 04.03.: Diners Club // Marcell \n•••••••••••••••••••••••••••••••\n \nEintritt nur mit Kostüm!\n \n \n 
URL:https://hotelkovel.de/event/cafe-misthaufen/
LOCATION:Hotel Kovèl\, Tirolergasse 11\, Oberammergau\, Bayern\, 82487\, Germany
ORGANIZER;CN="Kulturhaus Hotel Kov%C3%A8l":MAILTO:info@hotelkovel.de
END:VEVENT
END:VCALENDAR