BEGIN:VCALENDAR
VERSION:2.0
PRODID:-//Kulturhaus Hotel Kovèl e. V. - ECPv6.15.20//NONSGML v1.0//EN
CALSCALE:GREGORIAN
METHOD:PUBLISH
X-ORIGINAL-URL:https://hotelkovel.de
X-WR-CALDESC:Veranstaltungen für Kulturhaus Hotel Kovèl e. V.
REFRESH-INTERVAL;VALUE=DURATION:PT1H
X-Robots-Tag:noindex
X-PUBLISHED-TTL:PT1H
BEGIN:VTIMEZONE
TZID:UTC
BEGIN:STANDARD
TZOFFSETFROM:+0000
TZOFFSETTO:+0000
TZNAME:UTC
DTSTART:20240101T000000
END:STANDARD
END:VTIMEZONE
BEGIN:VEVENT
DTSTART;TZID=UTC:20250921T210000
DTEND;TZID=UTC:20250921T233000
DTSTAMP:20260420T142032
CREATED:20250309T124910Z
LAST-MODIFIED:20250911T190234Z
UID:264-1758488400-1758497400@hotelkovel.de
SUMMARY:Konzert: Sleepwalker’s Station & Sam Brothers (UK)
DESCRIPTION:Ein Live-Konzert von Sleepwalker’s Station (Indie-World-Folk) zu erleben\, ist wie eine kleine\, sanfte Reise rund um den Globus\, bei der man kleine Eindrücke und Souvenirs aus jedem Land und jeder Region mitnimmt\, die diese musikalische Reise zu bieten hat.\n \nSam Brothers & Sleepwalkers Station  \nDer Folksänger Sam Brothers (UK) und Daniel Del Valle von der Indie-Folk-Band Sleepwalkers Station (D/IT) lernten sich bei einem Auftritt beim Gwangju Busking World Cup Finale 2023 in Südkorea kennen. Die Liebe zu traditioneller musik\, zum Reisen und zur internationalen Cuisine verband die beiden\, und führte so zur Entstehung des Projekts „Around The World In 80 Minutes“.  \nDie Show ist eine Folk Odyssee mit Nuancen von Flamenco\, irischer und italienischer Musik bis hin zu Austropop\, die Sie auf eine Reise durch mehrere Länder und gar Kontinente der Erde mitnimmt! – Basierend auf den Erfahrungen beider Musiker\, die auf der ganzen Welt aufgetreten sind.  \nDaniel\, der 5 verschiedene Sprachen fließend spricht\, bringt seine sprachlichen und songwriting-Fähigkeiten in diese gewagte Mischung ein\, während Sam eine Reihe exotischer Instrumente mitbringt\, darunter eine chinesische Hulusi-Flöte\, die irische Harfe\, eine Mundharmonika sowie seine eigenen Songwriting-Fähigkeiten. \nFreuen Sie sich auf Geschichten über das Spielen auf der Bühne mit Van Morrison\, die Überquerung des Atlantiks auf einem Segelboot\, das Erlernen des Balofons in Westafrika\, Auftritte beim Glastonbury & The Isle Of Wight Festival\, das Singen mit den Tuareg in der Sahara\, das Straßenmusizieren in der Nähe der nordkoreanischen Grenze und das Treffen mit Persönlichkeiten wie Dave Gilmour bis Ennio Morricone. \nLinks: \nhttps://www.sambrothers.co.uk/\nhttps://www.sleepwalkersstation.com/\nhttps://open.spotify.com/intl-de/album/6scj512iLurPKJwcESvYD3?fo=1
URL:https://hotelkovel.de/event/konzert-sleepwalkers-station/
LOCATION:Hotel Kovèl\, Tirolergasse 11\, Oberammergau\, Bayern\, 82487\, Germany
ORGANIZER;CN="Kulturhaus Hotel Kov%C3%A8l":MAILTO:info@hotelkovel.de
END:VEVENT
BEGIN:VEVENT
DTSTART;TZID=UTC:20250927T210000
DTEND;TZID=UTC:20250927T233000
DTSTAMP:20260420T142032
CREATED:20250309T115217Z
LAST-MODIFIED:20250309T115226Z
UID:251-1759006800-1759015800@hotelkovel.de
SUMMARY:Konzert: Tuppenny Bunters (UK)
DESCRIPTION:TUPPENNY BUNTERS sind ein zweiköpfiges Klavier- und Schlagzeug-Duo aus Southend-On-Sea\, nähe London (UK)\, das mit vintage Equipment und zwei unterschiedlichen Stimmen ein elektrisierendes Set aus eigenen Songs kreiert\, das Musikrichtungen wie Music Hall\, Barock\, Garage\, Punk und New Wave umfasst. Ihre Einflüsse sind vielfältig und verweben diese mit Leidenschaft. Häufig wechseln sie die Instrumente und teilen sich die Hauptstimmen.\nEine einzigartige und mitreißende Darbietung. \nLinks: \nhttps://www.tuppennybunters.com/ \nhttps://www.youtube.com/@tuppennybunters3675
URL:https://hotelkovel.de/event/konzert-tuppenny-bunters-uk/
LOCATION:Hotel Kovèl\, Tirolergasse 11\, Oberammergau\, Bayern\, 82487\, Germany
ORGANIZER;CN="Kulturhaus Hotel Kov%C3%A8l":MAILTO:info@hotelkovel.de
END:VEVENT
END:VCALENDAR