BEGIN:VCALENDAR
VERSION:2.0
PRODID:-//Kulturhaus Hotel Kovèl e. V. - ECPv6.15.20//NONSGML v1.0//EN
CALSCALE:GREGORIAN
METHOD:PUBLISH
X-WR-CALNAME:Kulturhaus Hotel Kovèl e. V.
X-ORIGINAL-URL:https://hotelkovel.de
X-WR-CALDESC:Veranstaltungen für Kulturhaus Hotel Kovèl e. V.
REFRESH-INTERVAL;VALUE=DURATION:PT1H
X-Robots-Tag:noindex
X-PUBLISHED-TTL:PT1H
BEGIN:VTIMEZONE
TZID:UTC
BEGIN:STANDARD
TZOFFSETFROM:+0000
TZOFFSETTO:+0000
TZNAME:UTC
DTSTART:20250101T000000
END:STANDARD
END:VTIMEZONE
BEGIN:VEVENT
DTSTART;TZID=UTC:20260925T210000
DTEND;TZID=UTC:20260925T233000
DTSTAMP:20260420T083656
CREATED:20260202T190238Z
LAST-MODIFIED:20260226T205304Z
UID:383-1790370000-1790379000@hotelkovel.de
SUMMARY:Konzert: Ido Spak & Yaser Bayat
DESCRIPTION:Ido Spak & Yaser Bayat \nMusik hat keine Grenze! Erlebt diesen Abend Musik aus Teheran und Brüssel in einer einzigartigen Fusion aus Jazz und orientalischen Melodien! \nYaser Bayat ist ein Multi-Instrumentalist und Komponist\, der traditionelle persische Instrumente spielt\, wie Setar\, Baglama\, Santur\, Kamancheh\, Daf und er komponierte Musik für mehr als 60 professionelle Theater- und Filmproduktionen\, spielte Hunderte von Konzerten mit verschiedenen Bands im Iran und in anderen Ländern wie Polen\, Armenien\, Italien\, Katar\, der Türkei und Deutschland. Yaser Bayat lebt seit 2021 in Berlin. Seit September 2022 arbeitet er als Musiklehrer an der Global Music School. Mit der Gründung der Musikgruppe „Iran Ava“ möchte Yaser Bayat einen musikalischen Dialog zwischen iranischen und internationalen Instrumenten anzustoßen. \nIdo Spak ist ein jüdischer Komponist\, Arrangeur und Klaviervirtuose mit Ausbildung in der klassischen Musik und im Jazz. Seine Musik ist eine Jazz-Fusion mit klassischen und nahöstlichen Einflüssen. Mit seinem eigenen Jazztrio hat er mehrere Alben veröffentlicht und Touren im In- und Ausland absolviert. Außerdem ist er als Pianist und Arrangeur für verschiedene Projekte im Bereich Hip-Hop (Govinda\, Ewane Makia) und hat Musik für Theaterprojekte wie das Kammeroper Freiberg und „Eisbär“ geschrieben. \nZusammen auf der Bühne bezaubern sie mit ihren Instrumenten und orientalischen Melodien\, reisen mit ihrer Musik durch verschiedene Kontinente und präsentieren eine spannende Oriental Music-Jazzfusion! \nLinks:\nhttps://www.idospak.com/ \n  \nEintritt frei \nEinlass 21.00 Uhr
URL:https://hotelkovel.de/event/konzert-ido-spak-yaser-bayat/
LOCATION:Hotel Kovèl\, Tirolergasse 11\, Oberammergau\, Bayern\, 82487\, Germany
ATTACH;FMTTYPE=image/jpeg:https://hotelkovel.de/wp-content/uploads/2026/02/IdoSpak_Yaser-Bayat_2.jpg
ORGANIZER;CN="Kulturhaus Hotel Kov%C3%A8l":MAILTO:info@hotelkovel.de
END:VEVENT
END:VCALENDAR